BEGIN:VCALENDAR
VERSION:2.0
PRODID:icalendar-ruby
CALSCALE:GREGORIAN
METHOD:PUBLISH
BEGIN:VEVENT
DTSTAMP:20260420T013805Z
UID:76-1065853@westminsterpc.ca
DTSTART:20260426T140000Z
DTEND:20260426T151500Z
CLASS:PUBLIC
CREATED:20260419T161024
DESCRIPTION:On Sunday\, April 26th at 10:01am we gather together as God’s
  people to worship.\nThere is youth ministry\, nursery care\, and mutual e
 ncouragement in the body of Christ.\nWe honour Christ our King together.
LAST-MODIFIED:20260419T161024
LOCATION:
SUMMARY:Sunday Service
URL;VALUE=URI:https://www.westminsterpc.ca/events/sunday-service--76/2026-0
 4-26
ATTACH;FILENAME=Our-father.png;FMTTYPE=image/png:https://dq5pwpg1q8ru0.clou
 dfront.net/2026/04/19/20/10/24/e95beb46-3d0d-4b3a-a783-46263ce5899b/Our-fa
 ther.png
END:VEVENT
END:VCALENDAR
